Workbook

Sheet Übersicht
C2: Endstand
B4: Laufabzeichen-Wettbewerb 2025/2026
B5: der Schulen in Schleswig-Holstein
A8: Gruppe | B8: Anzahl | C8: 15 min | D8: 30 min | E8: 60 min | F8: Teilnehmer
A9: Grundschulen | B9: 206 | C9: ='GS sortiert'!D210 -> 4247 | D9: ='GS sortiert'!E210 -> 6742 | E9: ='GS sortiert'!F210 -> 29048 | F9: ='GS sortiert'!D211 -> 40037
A10: Gemeinschafts-schulen ohne Oberstufe | B10: 22 | C10: =GemS!D27 -> 625 | D10: =GemS!E27 -> 779 | E10: =GemS!F27 -> 4178 | F10: =E10+D10+C10 -> 5582
A11: Förderzentren | B11: 17 | C11: ='FS sortiert'!D22 -> 213 | D11: ='FS sortiert'!E22 -> 287 | E11: ='FS sortiert'!F22 -> 669 | F11: =E11+D11+C11 -> 1169
A12: Gymnasien / Gemeinschafts-/ Berufsschulen | B12: 15 | C12: ='Gymnasien sortiert'!D20 -> 426 | D12: ='Gymnasien sortiert'!E20 -> 783 | E12: ='Gymnasien sortiert'!F20 -> 7301 | F12: =E12+D12+C12 -> 8510
A13: Summen | B13: =SUM(B9:B12) -> 260 | C13: =SUM(C9:C12) -> 5511 | D13: =SUM(D9:D12) -> 8591 | E13: =SUM(E9:E12) -> 41196 | F13: =SUM(F9:F12) -> 55298
C16: zum Vergleich:
B19: Laufabzeichen-Wettbewerb 2024/2025
B20: der Schulen in Schleswig-Holstein
A23: Gruppe | B23: Anzahl | C23: 15 min | D23: 30 min | E23: 60 min | F23: Teilnehmer
A24: Grundschulen | B24: 205 | C24: 4229 | D24: 6442 | E24: 27119 | F24: =E24+D24+C24 -> 37790
A25: Regionalschulen Hauptschulen/ Realschulen | B25: 27 | C25: 988 | D25: 1209 | E25: 5149 | F25: =E25+D25+C25 -> 7346
A26: Förderzentren | B26: 19 | C26: 221 | D26: 224 | E26: 421 | F26: =E26+D26+C26 -> 866
A27: Gymnasien / Gemeinschafts-/ Berufsschulen | B27: 20 | C27: 769 | D27: 1186 | E27: 8269 | F27: =E27+D27+C27 -> 10224
A28: Summen | B28: =SUM(B24:B27) -> 271 | C28: =SUM(C24:C27) -> 6207 | D28: =SUM(D24:D27) -> 9061 | E28: =SUM(E24:E27) -> 40958 | F28: =SUM(F24:F27) -> 56226
A31: Stand: | B31: 46272

Sheet GS sortiert
C1: Laufabzeichenwettbewerb 2025/2026
C2: Grundschulen
A3: Nr. | B3: Schule | C3: Kreis | D3: 15 min | E3: 30 min | F3: 60 min | G3: Punkte | H3: Schüler -zahl | I3: Index
A4: 1. | B4: Privatschule Oldenswort | C4: Nordfriesland | D4: 0 | E4: 5 | F4: 58 | G4: =D4+(E4*2)+(F4*3) -> 184 | H4: 63 | I4: =G4/H4 -> 2.9206349
A5: 2. | B5: Grundschule Schönböcken | C5: Lübeck | D5: 2 | E5: 11 | F5: 113 | G5: =D5+(E5*2)+(F5*3) -> 363 | H5: 126 | I5: =G5/H5 -> 2.8809524
A6: 3. | B6: Grundschule Borgstedt | C6: RD/Eck | D6: 3 | E6: 6 | F6: 103 | G6: =D6+(E6*2)+(F6*3) -> 324 | H6: 113 | I6: =G6/H6 -> 2.8672566
A7: 4. | B7: Grundschule Alt Duvenstedt | C7: RD/Eck | D7: 4 | E7: 4 | F7: 86 | G7: =D7+(E7*2)+(F7*3) -> 270 | H7: 95 | I7: =G7/H7 -> 2.8421053
A8: 5. | B8: Grundschule des Amtes Achterwehr/Bredenbek | C8: RD/Eck | D8: 4 | E8: 4 | F8: 68 | G8: =D8+(E8*2)+(F8*3) -> 216 | H8: 76 | I8: =G8/H8 -> 2.8421053
A9: 6. | B9: Dörfergemeinschaftsschule Am Struckteich,Zarpen | C9: Stormarn | D9: 4 | E9: 12 | F9: 189 | G9: =D9+(E9*2)+(F9*3) -> 595 | H9: 210 | I9: =G9/H9 -> 2.8333333
A10: 7. | B10: Schule Mittelschwansen, Waabs | C10: SL/FL | D10: 4 | E10: 6 | F10: 67 | G10: =D10+(E10*2)+(F10*3) -> 217 | H10: 77 | I10: =G10/H10 -> 2.8181818
A11: 8. | B11: Grundschule Owschlag | C11: RD/ECK | D11: 3 | E11: 4 | F11: 107 | G11: =D11+(E11*2)+(F11*3) -> 332 | H11: 118 | I11: =G11/H11 -> 2.8135593
A12: 9. | B12: Freie Grundschule Quickborn | C12: Pinneberg | D12: 6 | E12: 14 | F12: 117 | G12: =D12+(E12*2)+(F12*3) -> 385 | H12: 137 | I12: =G12/H12 -> 2.810219
A13: 10. | B13: Gertrud-Lege-Schule, Reinbek | C13: Stormarn | D13: 24 | E13: 19 | F13: 307 | G13: =D13+(E13*2)+(F13*3) -> 983 | H13: 350 | I13: =G13/H13 -> 2.8085714
A14: 11. | B14: Grundschule Kölln-Reisiek | C14: Pinneberg | D14: 8 | E14: 18 | F14: 149 | G14: =D14+(E14*2)+(F14*3) -> 491 | H14: 175 | I14: =G14/H14 -> 2.8057143
A15: 12. | B15: Evangelische Schule Gülzow | C15: Lauenburg | D15: 5 | E15: 6 | F15: 71 | G15: =D15+(E15*2)+(F15*3) -> 230 | H15: 82 | I15: =G15/H15 -> 2.804878
A16: 13. | B16: Grundschule Steinbergkirche | C16: SL/FL | E16: 4 | F16: 87 | G16: =D16+(E16*2)+(F16*3) -> 269 | H16: 96 | I16: =G16/H16 -> 2.8020833
A17: 14. | B17: Grundschule an der Bake, Mönkeberg | C17: Plön | D17: 9 | E17: 12 | F17: 158 | G17: =D17+(E17*2)+(F17*3) -> 507 | H17: 181 | I17: =G17/H17 -> 2.801105
A18: 15. | B18: Grundschule Tangstedt | C18: Pinneberg | D18: 3 | E18: 3 | F18: 93 | G18: =D18+(E18*2)+(F18*3) -> 288 | H18: 103 | I18: =G18/H18 -> 2.7961165
A19: 16. | B19: Grundschule Hemdingen | C19: Pinneberg | D19: 2 | E19: 10 | F19: 119 | G19: =D19+(E19*2)+(F19*3) -> 379 | H19: 137 | I19: =G19/H19 -> 2.7664234
A20: 17. | B20: Grundschule Bad Schwartau | C20: Ostholstein | D20: 23 | E20: 48 | F20: 330 | G20: =D20+(E20*2)+(F20*3) -> 1109 | H20: 402 | I20: =G20/H20 -> 2.7587065
A21: 18. | B21: Grundschule Ratzeburg | C21: Lauenburg | D21: 26 | E21: 61 | F21: 420 | G21: =D21+(E21*2)+(F21*3) -> 1408 | H21: 511 | I21: =G21/H21 -> 2.7553816
A22: 19. | B22: Hermann-Löns-Schule Ellerbek | C22: Pinneberg | D22: 5 | E22: 18 | F22: 158 | G22: =D22+(E22*2)+(F22*3) -> 515 | H22: 187 | I22: =G22/H22 -> 2.7540107
A23: 20. | B23: Siegfried-Lenz-Schule Handewitt | C23: SL/FL | D23: 3 | E23: 6 | F23: 50 | G23: =D23+(E23*2)+(F23*3) -> 165 | H23: 60 | I23: =G23/H23 -> 2.75
A24: 21. | B24: OGGS Immenhorst, Norderstedt | C24: Segeberg | D24: 8 | E24: 25 | F24: 257 | G24: =D24+(E24*2)+(F24*3) -> 829 | H24: 302 | I24: =G24/H24 -> 2.7450331
A25: 22. | B25: Maria-Jessen-Schule | C25: Dithmarschen | D25: 10 | E25: 9 | F25: 116 | G25: =D25+(E25*2)+(F25*3) -> 376 | H25: 137 | I25: =G25/H25 -> 2.7445255
A26: 23. | B26: Astrid-Lindgren-Grundschule Elmshorn | C26: Pinneberg | D26: 12 | E26: 42 | F26: 193 | G26: =D26+(E26*2)+(F26*3) -> 675 | H26: 247 | I26: =G26/H26 -> 2.7327935
A27: 24. | B27: Grundschule Alveslohe | C27: Segeberg | D27: 6 | E27: 9 | F27: 135 | G27: =D27+(E27*2)+(F27*3) -> 429 | H27: 157 | I27: =G27/H27 -> 2.7324841
A28: 25. | B28: Dalbek-Schule, Börnsen | C28: Lauenburg | D28: 8 | E28: 11 | F28: 173 | G28: =D28+(E28*2)+(F28*3) -> 549 | H28: 201 | I28: =G28/H28 -> 2.7313433
... A57: 54. | B57: Grundschule Heist | C57: Pinneberg | D57: 5 | E57: 16 | F57: 106 | G57: =D57+(E57*2)+(F57*3) -> 355 | H57: 137 | I57: =G57/H57 -> 2.5912409
A58: 55. | B58: Lütt Dörp School Witzwort | C58: Nordfriesland | E58: 2 | F58: 47 | G58: =D58+(E58*2)+(F58*3) -> 145 | H58: 56 | I58: =G58/H58 -> 2.5892857
A59: 56. | B59: Grundschule Mühlenredder, Reinbek | C59: Stormarn | D59: 15 | E59: 44 | F59: 193 | G59: =D59+(E59*2)+(F59*3) -> 682 | H59: 265 | I59: =G59/H59 -> 2.5735849
A60: 57. | B60: Grundschule Osdorf | C60: RD/Eck | D60: 23 | E60: 29 | F60: 154 | G60: =D60+(E60*2)+(F60*3) -> 543 | H60: 211 | I60: =G60/H60 -> 2.5734597
A61: 58. | B61: Grundschule Holtenau | C61: Kiel | D61: 3 | E61: 18 | F61: 101 | G61: =D61+(E61*2)+(F61*3) -> 342 | H61: 133 | I61: =G61/H61 -> 2.5714286
A62: 59. | B62: Grundschule Kremperheide | C62: Steinburg | D62: 8 | E62: 18 | F62: 111 | G62: =D62+(E62*2)+(F62*3) -> 377 | H62: 147 | I62: =G62/H62 -> 2.5646259
A63: 60. | B63: Schule im Grünen Großsolt | C63: SL/FL | D63: 9 | E63: 16 | F63: 88 | G63: =D63+(E63*2)+(F63*3) -> 305 | H63: 119 | I63: =G63/H63 -> 2.5630252
A64: 61. | B64: Wulf-Isebrand-Schule | C64: Dithmarschen | D64: 18 | E64: 37 | F64: 146 | G64: =D64+(E64*2)+(F64*3) -> 530 | H64: 207 | I64: =G64/H64 -> 2.5603865
A65: 62. | B65: Grundschule Schlamersdorf | C65: Segeberg | D65: 5 | E65: 10 | F65: 111 | G65: =D65+(E65*2)+(F65*3) -> 358 | H65: 140 | I65: =G65/H65 -> 2.5571429
A66: 63. | B66: Alwin-Lensch-Schule Niebüll | C66: Nordfriesland | D66: 32 | E66: 83 | F66: 214 | G66: =D66+(E66*2)+(F66*3) -> 840 | H66: 329 | I66: =G66/H66 -> 2.5531915
A67: 64. | B67: Grundschule Sieversdorf | C67: Ostholstein | D67: 6 | E67: 15 | F67: 62 | G67: =D67+(E67*2)+(F67*3) -> 222 | H67: 87 | I67: =G67/H67 -> 2.5517241
A68: 65. | B68: Regenbogenschule OT Satrup | C68: SL/FL | D68: 19 | E68: 28 | F68: 196 | G68: =D68+(E68*2)+(F68*3) -> 663 | H68: 260 | I68: =G68/H68 -> 2.55
A69: 66. | B69: Grundschule Lütjensee | C69: Stormarn | D69: 9 | E69: 13 | F69: 209 | G69: =D69+(E69*2)+(F69*3) -> 662 | H69: 260 | I69: =G69/H69 -> 2.5461538
A70: 67. | B70: Grundschule Barkauer Land | C70: Plön | D70: 13 | E70: 19 | F70: 123 | G70: =D70+(E70*2)+(F70*3) -> 420 | H70: 165 | I70: =G70/H70 -> 2.5454545
... A109: 106. | B109: Grundschule Willinghusen | C109: Stormarn | D109: 20 | E109: 29 | F109: 175 | G109: =D109+(E109*2)+(F109*3) -> 603 | H109: 248 | I109: =G109/H109 -> 2.4314516
A110: 107. | B110: James-Krüss-Schule | C110: Pinneberg | D110: 2 | E110: 4 | F110: 29 | G110: =D110+(E110*2)+(F110*3) -> 97 | I110: 2.43
A111: 108. | B111: Waldschule | C111: Flensburg | D111: 19 | E111: 32 | F111: 284 | G111: =D111+(E111*2)+(F111*3) -> 935 | H111: 385 | I111: =G111/H111 -> 2.4285714
A112: 109. | B112: Grundschule Utkiek | C112: Lübeck | D112: 25 | E112: 28 | F112: 120 | G112: =D112+(E112*2)+(F112*3) -> 441 | H112: 182 | I112: =G112/H112 -> 2.4230769
A113: 110. | B113: Grundschule an der Linde Leck | C113: Nordfriesland | D113: 28 | E113: 52 | F113: 174 | G113: =D113+(E113*2)+(F113*3) -> 654 | H113: 270 | I113: =G113/H113 -> 2.4222222
A114: 111. | B114: Grundschule Kiebitzreihe | C114: Steinburg | D114: 12 | E114: 28 | F114: 121 | G114: =D114+(E114*2)+(F114*3) -> 431 | H114: 178 | I114: =G114/H114 -> 2.4213483
A115: 112. | B115: Grundschule Bönebüttel | C115: Plön | D115: 28 | E115: 19 | F115: 82 | G115: =D115+(E115*2)+(F115*3) -> 312 | H115: 129 | I115: =G115/H115 -> 2.4186047
A116: 113. | B116: Astrid-Lindgren-Grundschule Schwentinental | C116: Plön | D116: 28 | E116: 45 | F116: 194 | G116: =D116+(E116*2)+(F116*3) -> 700 | H116: 290 | I116: =G116/H116 -> 2.4137931
A117: 114. | B117: Timm-Kröger-Schule Elmshorn | C117: Pinneberg | D117: 20 | E117: 79 | F117: 172 | G117: =D117+(E117*2)+(F117*3) -> 694 | H117: 288 | I117: =G117/H117 -> 2.4097222
A118: 115. | B118: Bürgerschule Glückstadt | C118: Steinburg | D118: 44 | E118: 39 | F118: 249 | G118: =D118+(E118*2)+(F118*3) -> 869 | H118: 361 | I118: =G118/H118 -> 2.4072022
A119: 116. | B119: Grundschule Goldenbek | C119: Segeberg | D119: 4 | E119: 14 | F119: 79 | G119: =D119+(E119*2)+(F119*3) -> 269 | H119: 112 | I119: =G119/H119 -> 2.4017857
A120: 117. | B120: Schule Lauerholz | C120: Lübeck | D120: 17 | E120: 34 | F120: 230 | G120: =D120+(E120*2)+(F120*3) -> 775 | H120: 323 | I120: =G120/H120 -> 2.3993808
A121: 118. | B121: Grundschule Pellwormstraße | C121: Segeberg | D121: 18 | E121: 25 | F121: 109 | G121: =D121+(E121*2)+(F121*3) -> 395 | H121: 165 | I121: =G121/H121 -> 2.3939394
A122: 119. | B122: Georg-Asmussen-Schule, Gelting | C122: Nordfriesland | D122: 11 | E122: 18 | F122: 79 | G122: =D122+(E122*2)+(F122*3) -> 284 | H122: 119 | I122: =G122/H122 -> 2.3865546
... A138: 135. | B138: Gottfried-Semper-Schule | C138: Pinneberg | D138: 8 | E138: 7 | F138: 40 | G138: =D138+(E138*2)+(F138*3) -> 142 | H138: 61 | I138: =G138/H138 -> 2.3278689
A139: 136. | B139: Franz Claudius Schule | C139: Segeberg | D139: 25 | E139: 48 | F139: 185 | G139: =D139+(E139*2)+(F139*3) -> 676 | H139: 0 | I139: 2.3258065
A140: 137. | B140: Rüm-Hart-Schule | C140: Nordfriesland | D140: 27 | E140: 28 | F140: 78 | G140: =D140+(E140*2)+(F140*3) -> 317 | H140: 137 | I140: =G140/H140 -> 2.3138686
A141: 138. | B141: Grundschule Klosterbergen | C141: Stormarn | D141: 5 | E141: 31 | F141: 185 | G141: =D141+(E141*2)+(F141*3) -> 622 | H141: 269 | I141: =G141/H141 -> 2.3122677
A142: 139. | B142: Grundschule Stapelfeld | C142: Stormarn | D142: 4 | E142: 6 | F142: 137 | G142: =D142+(E142*2)+(F142*3) -> 427 | H142: 185 | I142: =G142/H142 -> 2.3081081
A143: 140. | B143: Grundschule Hitzhusen | C143: Segeberg | D143: 15 | E143: 31 | F143: 92 | G143: =D143+(E143*2)+(F143*3) -> 353 | H143: 154 | I143: =G143/H143 -> 2.2922078
A144: 141. | B144: Grundschule Wilstermarsch | C144: Steinburg | D144: 27 | E144: 21 | F144: 103 | G144: =D144+(E144*2)+(F144*3) -> 378 | H144: 165 | I144: =G144/H144 -> 2.2909091
A145: 142. | B145: Grundschule Hüttener Berge | C145: RD/Eck | D145: 24 | E145: 12 | F145: 89 | G145: =D145+(E145*2)+(F145*3) -> 315 | H145: 138 | I145: =G145/H145 -> 2.2826087
A146: 143. | B146: Kirsten Boie Schule | C146: Stormarn | D146: 35 | E146: 141 | F146: 137 | G146: =D146+(E146*2)+(F146*3) -> 728 | H146: 319 | I146: =G146/H146 -> 2.2821317
A147: 144. | B147: Dörfergemeinschaftsschule Probsteierhagen | C147: Plön | D147: 19 | E147: 34 | F147: 168 | G147: =D147+(E147*2)+(F147*3) -> 591 | H147: 259 | I147: =G147/H147 -> 2.2818533
A148: 145. | B148: Schule Marli | C148: Lübeck | D148: 26 | E148: 52 | F148: 92 | G148: =D148+(E148*2)+(F148*3) -> 406 | H148: 178 | I148: =G148/H148 -> 2.2808989
A149: 146. | B149: Schule am Sonderburger Platz | C149: Kiel | D149: 42 | E149: 42 | F149: 156 | G149: =D149+(E149*2)+(F149*3) -> 594 | H149: 262 | I149: =G149/H149 -> 2.2671756
A150: 147. | B150: Grundschule Schellhorn-Trent | C150: Plön | D150: 12 | E150: 26 | F150: 94 | G150: =D150+(E150*2)+(F150*3) -> 346 | H150: 153 | I150: =G150/H150 -> 2.2614379
A151: 148. | B151: Grundschule Großenwiehe | C151: SL/FL | D151: 22 | E151: 30 | F151: 133 | G151: =D151+(E151*2)+(F151*3) -> 481 | H151: 213 | I151: =G151/H151 -> 2.258216
... A208: 205. | B208: Utholm Schule | C208: Nordfriesland | D208: 20 | E208: 23 | F208: 38 | G208: =D208+(E208*2)+(F208*3) -> 180 | H208: 112 | I208: =G208/H208 -> 1.6071429
A209: 206. | B209: Schülerschule Pinneberg | C209: Pinneberg | D209: 45 | E209: 22 | F209: 13 | G209: =D209+(E209*2)+(F209*3) -> 128 | H209: 0 | I209: 1.17
D210: =SUM(D4:D209) -> 4247 | E210: =SUM(E4:E209) -> 6742 | F210: =SUM(F4:F209) -> 29048
C211: Gesamtteilnehmer | D211: =D210+E210+F210 -> 40037
B212: Stand: 07.09.2026

Sheet Gymnasien sortiert
C1: Laufabzeichenwettbewerb 2025/2026
C2: Gymnasien/Gemeinschaftsschulen mit Oberstufe/Berufl.Schulen
A4: Nr. | B4: Schule | C4: Kreis | D4: 15 Min | E4: 30 Min | F4: 60 Min | G4: Punkte | H4: Schüler -zahl | I4: Index
A5: 1. | B5: Helene-Lange-Gymnasium | C5: RD/ECK | D5: 17 | E5: 36 | F5: 426 | G5: =D5+(E5*2)+(F5*3) -> 1367 | H5: 479 | I5: =G5/H5 -> 2.8538622
A6: 2. | B6: Altes Gymnasium Flensburg | C6: Flensburg | D6: 31 | E6: 35 | F6: 747 | G6: =D6+(E6*2)+(F6*3) -> 2342 | H6: 830 | I6: =G6/H6 -> 2.8216867
A7: 3. | B7: Stormarnschule Ahrensburg | C7: Stormarn | D7: 27 | E7: 50 | F7: 460 | G7: =D7+(E7*2)+(F7*3) -> 1507 | H7: 557 | I7: =G7/H7 -> 2.7055655 | J7: GS157
A8: 4. | B8: Theodor-Storm-Schule Husum | C8: Nordfriesland | D8: 16 | E8: 47 | F8: 563 | G8: =D8+(E8*2)+(F8*3) -> 1799 | H8: 727 | I8: =G8/H8 -> 2.474553
A9: 5. | B9: Hermann-Tast-Schule Husum | C9: Nordfriesland | D9: 40 | E9: 49 | F9: 483 | G9: =D9+(E9*2)+(F9*3) -> 1587 | H9: 648 | I9: =G9/H9 -> 2.4490741
A10: 6. | B10: Gymnasium Schwarzenbek | C10: Lauenburg | D10: 21 | E10: 121 | F10: 678 | G10: =D10+(E10*2)+(F10*3) -> 2297 | H10: 950 | I10: =G10/H10 -> 2.4178947
A11: 7. | B11: Ostsee-Gymnasium | C11: Ostholstein | D11: 10 | E11: 16 | F11: 441 | G11: =D11+(E11*2)+(F11*3) -> 1365 | H11: 583 | I11: =G11/H11 -> 2.3413379
A12: 8. | B12: Alexander-von-Humboldt-Schule | C12: Neumünster | D12: 8 | E12: 18 | F12: 596 | G12: =D12+(E12*2)+(F12*3) -> 1832 | H12: 789 | I12: =G12/H12 -> 2.3219265
A13: 9. | B13: Fördegymnasium | C13: Flensburg | D13: 19 | E13: 45 | F13: 382 | G13: =D13+(E13*2)+(F13*3) -> 1255 | H13: 560 | I13: =G13/H13 -> 2.2410714
A14: 10. | B14: Gymnasium Brunsbüttel | C14: Dithmarschen | D14: 17 | E14: 24 | F14: 388 | G14: =D14+(E14*2)+(F14*3) -> 1229 | H14: 592 | I14: =G14/H14 -> 2.0760135
A15: 11. | B15: Peter-Ustinov-Schule | C15: RD/ECK | D15: 64 | E15: 118 | F15: 475 | G15: =D15+(E15*2)+(F15*3) -> 1725 | H15: 850 | I15: =G15/H15 -> 2.0294118
A16: 12. | B16: Kaiser-Karl-Schule, Itzehoe | C16: Steinburg | D16: 58 | E16: 58 | F16: 537 | G16: =D16+(E16*2)+(F16*3) -> 1785 | H16: 880 | I16: =G16/H16 -> 2.0284091
A17: 13. | B17: Leibnitz-Gymnasium | C17: Ostholstein | D17: 41 | E17: 56 | F17: 381 | G17: =D17+(E17*2)+(F17*3) -> 1296 | H17: 718 | I17: =G17/H17 -> 1.8050139
A18: 14. | B18: Ernst-Barlach-Gymnasium | C18: Kiel | D18: 7 | E18: 47 | F18: 342 | G18: =D18+(E18*2)+(F18*3) -> 1127 | H18: 697 | I18: =G18/H18 -> 1.6169297
A19: 15. | B19: Gemeinschaftsschule Friedrichsort | C19: Kiel | D19: 50 | E19: 63 | F19: 402 | G19: =D19+(E19*2)+(F19*3) -> 1382 | H19: 1016 | I19: =G19/H19 -> 1.3602362
C20: Summen: | D20: =SUM(D5:D19) -> 426 | E20: =SUM(E5:E19) -> 783 | F20: =SUM(F5:F19) -> 7301
B21: Stand:07.09.2026 | C21: Gesamtteilnehmer: | D21: =D20+E20+F20 -> 8510

Sheet GemS
C1: Laufabzeichenwettbewerb 2025/2026
C2: Gemeinschaftsschulen ohne Oberstufe
A4: Nr. | B4: Schule | C4: Kreis | D4: 15 min | E4: 30 min | F4: 60 min | G4: Punkte | H4: Schüler -zahl | I4: Index
A5: 1. | B5: Schleusen-Gemeinschaftsschule Brunsbüttel | C5: Dithmarschen | D5: 3 | E5: 5 | F5: 307 | G5: =D5+(E5*2)+(F5*3) -> 934 | H5: 317 | I5: =G5/H5 -> 2.9463722
A6: 2. | B6: Christliche Schule Kiel | C6: Kiel | D6: 3 | E6: 8 | F6: 198 | G6: =D6+(E6*2)+(F6*3) -> 613 | H6: 210 | I6: =G6/H6 -> 2.9190476
A7: 3. | B7: Vyk Danske Skole | C7: Nordfriesland | D7: 1 | E7: 1 | F7: 10 | G7: =D7+(E7*2)+(F7*3) -> 33 | H7: 13 | I7: =G7/H7 -> 2.5384615
A8: 4. | B8: GGS Mildstedt | C8: Nordfriesland | D8: 53 | E8: 85 | F8: 417 | G8: =D8+(E8*2)+(F8*3) -> 1474 | H8: 600 | I8: =G8/H8 -> 2.4566667
A9: 5. | B9: James-Krüss-Schule Helgoland | C9: Pinneberg | D9: 1 | E9: 0 | F9: 33 | G9: =D9+(E9*2)+(F9*3) -> 100 | H9: 0 | I9: 2.43
A10: 6. | B10: Schulzentrum Nord | C10: Pinneberg | D10: 43 | E10: 72 | F10: 359 | G10: =D10+(E10*2)+(F10*3) -> 1264 | H10: 530 | I10: =G10/H10 -> 2.3849057
A11: 7. | B11: Rosenstadtschule, Uetersen | C11: Pinneberg | D11: 35 | E11: 100 | F11: 215 | G11: =D11+(E11*2)+(F11*3) -> 880 | H11: 375 | I11: =G11/H11 -> 2.3466667 | J11: GS157
A12: 8. | B12: Theodor-Storm-Dörfergemeinschaftsschule Hanerau-Hademarschen | C12: RD/Eck | D12: 22 | E12: 15 | F12: 97 | G12: =D12+(E12*2)+(F12*3) -> 343 | H12: 323 | I12: 2.22
A13: 9. | B13: Elisabeth-Selbert-Geminschaftsschule Bad Schwartau | C13: Ostholstein | D13: 43 | E13: 39 | F13: 337 | G13: =D13+(E13*2)+(F13*3) -> 1132 | H13: 514 | I13: =G13/H13 -> 2.2023346
A14: 10. | B14: Gemeinschaftsschule Wilster | C14: Steinburg | D14: 24 | E14: 31 | F14: 198 | G14: =D14+(E14*2)+(F14*3) -> 680 | H14: 330 | I14: =G14/H14 -> 2.0606061
A15: 11. | B15: Emanuel-Geibel-Schule | C15: Lübeck | D15: 24 | E15: 35 | F15: 240 | G15: =D15+(E15*2)+(F15*3) -> 814 | H15: 430 | I15: =G15/H15 -> 1.8930233
A16: 12. | B16: Gemeinschaftsschule Altenholz | C16: RD/Eck | D16: 35 | E16: 40 | F16: 136 | G16: =D16+(E16*2)+(F16*3) -> 523 | H16: 280 | I16: =G16/H16 -> 1.8678571
A17: 13. | B17: Gemeinschaftschule Hoffmann-von-Fallersleben | C17: Plön | D17: 29 | E17: 21 | F17: 155 | G17: =D17+(E17*2)+(F17*3) -> 536 | H17: 293 | I17: =G17/H17 -> 1.8293515
A18: 14. | B18: Elbschule Glückstadt | C18: Steinburg | D18: 26 | E18: 16 | F18: 182 | G18: =D18+(E18*2)+(F18*3) -> 604 | H18: 341 | I18: =G18/H18 -> 1.771261
A19: 15. | B19: Erich-Kästner-Schule, Silberstedt | C19: SL/FL | D19: 45 | E19: 56 | F19: 134 | G19: =D19+(E19*2)+(F19*3) -> 559 | H19: 329 | I19: =G19/H19 -> 1.6990881
A20: 16. | B20: Holstentor GGS | C20: Lübeck | D20: 54 | E20: 40 | F20: 236 | G20: =D20+(E20*2)+(F20*3) -> 842 | H20: 500 | I20: =G20/H20 -> 1.684
A21: 17. | B21: GGS Strand -Europaschule | C21: Ostholstein | D21: 12 | E21: 9 | F21: 145 | G21: =D21+(E21*2)+(F21*3) -> 465 | H21: 280 | I21: =G21/H21 -> 1.6607143
A22: 18. | B22: Gemeinschaftsschule am Seminarweg | C22: Segeberg | D22: 61 | E22: 61 | F22: 208 | G22: =D22+(E22*2)+(F22*3) -> 807 | H22: 500 | I22: =G22/H22 -> 1.614
A23: 19. | B23: Gemeinschaftsschule Achter de Weiden | C23: Pinneberg | D23: 18 | E23: 25 | F23: 132 | G23: =D23+(E23*2)+(F23*3) -> 464 | H23: 290 | I23: =G23/H23 -> 1.6
A24: 20. | B24: Gemeinschaftsschule Probstei | C24: Plön | D24: 57 | E24: 105 | F24: 385 | G24: =D24+(E24*2)+(F24*3) -> 1422 | H24: 1109 | I24: =G24/H24 -> 1.2822362
A25: 21. | B25: Schülerschule Pinneberg | C25: Pinneberg | D25: 36 | E25: 15 | F25: 21 | G25: =D25+(E25*2)+(F25*3) -> 129 | I25: 1.17
A26: 22. | B26: Gerhard-Hilgendorf-Schule | C26: Ostholstein | D26: 0 | E26: 0 | F26: 33 | G26: =D26+(E26*2)+(F26*3) -> 99 | H26: 600 | I26: =G26/H26 -> 0.165
C27: Summen: | D27: =SUM(D5:D26) -> 625 | E27: =SUM(E5:E26) -> 779 | F27: =SUM(F5:F26) -> 4178
B28: Stand: 14.09.2026 | C28: Gesamt-teilnehmer: | D28: =D27+E27+F27 -> 5582

Sheet AK
A1: 1 | B1: Grundschule Alt Duvenstedt | C1: ='GS sortiert'!I7 -> 2.8421053
A2: 2 | B2: Grundschule des Amtes Achterwehr/Bredenbek | C2: ='GS sortiert'!I8 -> 2.8421053
A3: 3 | B3: Dörfergemeinschaftsschule Am Struckteich,Zarpen | C3: ='GS sortiert'!I9 -> 2.8333333
A4: 4 | B4: Schule Mittelschwansen, Waabs | C4: ='GS sortiert'!I10 -> 2.8181818
A5: 5 | B5: Grundschule Owschlag | C5: ='GS sortiert'!I11 -> 2.8135593
A6: 6 | B6: Freie Grundschule Quickborn | C6: ='GS sortiert'!I12 -> 2.810219
A7: 7 | B7: Gertrud-Lege-Schule, Reinbek | C7: ='GS sortiert'!I13 -> 2.8085714
A8: 8 | B8: Grundschule Kölln-Reisiek | C8: ='GS sortiert'!I14 -> 2.8057143
A9: 9 | B9: Evangelische Schule Gülzow | C9: ='GS sortiert'!I15 -> 2.804878
A10: 10 | B10: Grundschule Steinbergkirche | C10: ='GS sortiert'!I16 -> 2.8020833
A11: 11 | B11: Grundschule an der Bake, Mönkeberg | C11: ='GS sortiert'!I17 -> 2.801105
A12: 12 | B12: Grundschule Tangstedt | C12: ='GS sortiert'!I18 -> 2.7961165
... A203: 203 | B203: Schülerschule Pinneberg | C203: ='GS sortiert'!I209 -> 1.17
A204: 204 | B204: James-Krüss-Schule Helgoland | C204: =GemS!I9 -> 2.43
A205: 205 | B205: Schulzentrum Nord | C205: =GemS!I10 -> 2.3849057
A206: 206 | B206: Rosenstadtschule, Uetersen | C206: =GemS!I11 -> 2.3466667
A207: 207 | B207: Theodor-Storm-Dörfergemeinschaftsschule Hanerau-Hademarschen | C207: =GemS!I12 -> 2.22
A208: 208 | B208: Elisabeth-Selbert-Geminschaftsschule Bad Schwartau | C208: =GemS!I13 -> 2.2023346
A209: 209 | B209: Gemeinschaftsschule Wilster | C209: =GemS!I14 -> 2.0606061
A210: 210 | B210: Emanuel-Geibel-Schule | C210: =GemS!I15 -> 1.8930233
A211: 211 | B211: Gemeinschaftsschule Altenholz | C211: =GemS!I16 -> 1.8678571
A212: 212 | B212: Gemeinschaftschule Hoffmann-von-Fallersleben | C212: =GemS!I17 -> 1.8293515
A213: 213 | B213: Elbschule Glückstadt | C213: =GemS!I18 -> 1.771261
A214: 214 | B214: Erich-Kästner-Schule, Silberstedt | C214: =GemS!I19 -> 1.6990881
A215: 215 | B215: Holstentor GGS | C215: =GemS!I20 -> 1.684
... A221: 221 | B221: Gerhard-Hilgendorf-Schule | C221: =GemS!I26 -> 0.165
A222: 222 | B222: Bramau-Schule | C222: ='FS sortiert'!I8 -> 2.25
A223: 223 | B223: Amalie-Sieveking-Schule | C223: ='FS sortiert'!I9 -> 2.2222222
A224: 224 | B224: Pestalozzi-Schule | C224: ='FS sortiert'!I10 -> 2.0930233
A225: 225 | B225: Schule am Papenmoor | C225: ='FS sortiert'!I11 -> 2.0893855
A226: 226 | B226: Schule Hochfeld | C226: ='FS sortiert'!I12 -> 2
A227: 227 | B227: Astrid-Lindgren-Schule Sörup | C227: ='FS sortiert'!I13 -> 1.9230769
A228: 228 | B228: Matthias-Leithoff-Schule | C228: ='FS sortiert'!I14 -> 1.7025316
A229: 229 | B229: Astrid-Lindgren-Schule Lübeck | C229: ='FS sortiert'!I15 -> 1.469697
A230: 230 | B230: Förderzentrum Süderdithmarschen | C230: ='FS sortiert'!I16 -> 1.44
A231: 231 | B231: Schule am Hasenstieg | C231: ='FS sortiert'!I17 -> 1.2721088
A232: 232 | B232: Förderzentrum Schönkirchen | C232: ='FS sortiert'!I18 -> 1.1515152
A233: 233 | B233: Rudolf-Steiner-Schule | C233: ='FS sortiert'!I19 -> 1.09
... A235: 235 | B235: Schule am Hochkamp, Bad Schwartau | C235: ='FS sortiert'!I21 -> 0.54166667
A236: 236 | B236: Theodor-Storm-Schule Husum | C236: ='Gymnasien sortiert'!I8 -> 2.474553
A237: 237 | B237: Hermann-Tast-Schule Husum | C237: ='Gymnasien sortiert'!I9 -> 2.4490741
A238: 238 | B238: Gymnasium Schwarzenbek | C238: ='Gymnasien sortiert'!I10 -> 2.4178947
A239: 239 | B239: Ostsee-Gymnasium | C239: ='Gymnasien sortiert'!I11 -> 2.3413379
A240: 240 | B240: Alexander-von-Humboldt-Schule | C240: ='Gymnasien sortiert'!I12 -> 2.3219265
A241: 241 | B241: Fördegymnasium | C241: ='Gymnasien sortiert'!I13 -> 2.2410714
A242: 242 | B242: Gymnasium Brunsbüttel | C242: ='Gymnasien sortiert'!I14 -> 2.0760135
A243: 243 | B243: Peter-Ustinov-Schule | C243: ='Gymnasien sortiert'!I15 -> 2.0294118
A244: 244 | B244: Kaiser-Karl-Schule, Itzehoe | C244: ='Gymnasien sortiert'!I16 -> 2.0284091
A245: 245 | B245: Leibnitz-Gymnasium | C245: ='Gymnasien sortiert'!I17 -> 1.8050139
A246: 246 | B246: Ernst-Barlach-Gymnasium | C246: ='Gymnasien sortiert'!I18 -> 1.6169297
A247: 247 | B247: Gemeinschaftsschule Friedrichsort | C247: ='Gymnasien sortiert'!I19 -> 1.3602362

Sheet FS sortiert
D1: Laufabzeichenwettbewerb 2025/2026
D2: Förderzentren
A4: Nr. | B4: Schule | C4: Kreis | D4: 15 min | E4: 30 min | F4: 60 min | G4: Punkte | H4: Schüler -zahl | I4: Index
A5: 1. | B5: Steinburg-Schule | C5: Steinburg | E5: 60 | F5: 152 | G5: =D5+(E5*2)+(F5*3) -> 576 | H5: 212 | I5: =G5/H5 -> 2.7169811
A6: 2. | B6: Schule Wilhelmshöhe | C6: Lübeck | D6: 11 | E6: 35 | F6: 63 | G6: =D6+(E6*2)+(F6*3) -> 270 | H6: 109 | I6: =G6/H6 -> 2.4770642
A7: 3. | B7: Franz Claudius Schule | C7: Segeberg | D7: 6 | E7: 0 | F7: 13 | G7: 721 | H7: 0 | I7: 2.3258065
A8: 4. | B8: Bramau-Schule | C8: Segeberg | E8: 3 | F8: 13 | G8: =D8+(E8*2)+(F8*3) -> 45 | H8: 20 | I8: =G8/H8 -> 2.25
A9: 5. | B9: Amalie-Sieveking-Schule | C9: Stormarn | D9: 4 | E9: 4 | F9: 36 | G9: =D9+(E9*2)+(F9*3) -> 120 | H9: 54 | I9: =G9/H9 -> 2.2222222
A10: 6. | B10: Pestalozzi-Schule | C10: RD/ECK | D10: 7 | E10: 25 | F10: 11 | G10: =D10+(E10*2)+(F10*3) -> 90 | H10: 43 | I10: =G10/H10 -> 2.0930233
A11: 7. | B11: Schule am Papenmoor | C11: Ostholstein | D11: 7 | E11: 26 | F11: 105 | G11: =D11+(E11*2)+(F11*3) -> 374 | H11: 179 | I11: =G11/H11 -> 2.0893855
A12: 8. | B12: Schule Hochfeld | C12: RD/ECK | D12: 14 | E12: 33 | F12: 90 | G12: =D12+(E12*2)+(F12*3) -> 350 | H12: 175 | I12: =G12/H12 -> 2
A13: 9. | B13: Astrid-Lindgren-Schule Sörup | C13: SL/FL | E13: 1 | F13: 41 | G13: =D13+(E13*2)+(F13*3) -> 125 | H13: 65 | I13: =G13/H13 -> 1.9230769
A14: 10. | B14: Matthias-Leithoff-Schule | C14: Lübeck | D14: 28 | E14: 20 | F14: 67 | G14: =D14+(E14*2)+(F14*3) -> 269 | H14: 158 | I14: =G14/H14 -> 1.7025316
A15: 11. | B15: Astrid-Lindgren-Schule Lübeck | C15: Lübeck | D15: 14 | E15: 10 | F15: 21 | G15: =D15+(E15*2)+(F15*3) -> 97 | H15: 66 | I15: =G15/H15 -> 1.469697
A16: 12. | B16: Förderzentrum Süderdithmarschen | C16: Dithmarschen | D16: 3 | E16: 12 | F16: 3 | G16: =D16+(E16*2)+(F16*3) -> 36 | H16: 25 | I16: =G16/H16 -> 1.44
A17: 13. | B17: Schule am Hasenstieg | C17: Segeberg | D17: 15 | E17: 41 | F17: 30 | G17: =D17+(E17*2)+(F17*3) -> 187 | H17: 147 | I17: =G17/H17 -> 1.2721088
A18: 14. | B18: Förderzentrum Schönkirchen | C18: Plön | E18: 4 | F18: 10 | G18: =D18+(E18*2)+(F18*3) -> 38 | H18: 33 | I18: =G18/H18 -> 1.1515152
A19: 15. | B19: Rudolf-Steiner-Schule | C19: Kiel | D19: 91 | E19: 9 | G19: =D19+(E19*2)+(F19*3) -> 109 | H19: 100 | I19: =G19/H19 -> 1.09
A20: 16. | B20: Berend-Schröder-Schule | C20: Lübeck | D20: 2 | E20: 3 | F20: 14 | G20: =D20+(E20*2)+(F20*3) -> 50 | H20: 57 | I20: =G20/H20 -> 0.87719298
A21: 17. | B21: Schule am Hochkamp, Bad Schwartau | C21: Ostholstein | D21: 11 | E21: 1 | F21: 0 | G21: =D21+(E21*2)+(F21*3) -> 13 | H21: 24 | I21: =G21/H21 -> 0.54166667
C22: Summen: | D22: =SUM(D5:D21) -> 213 | E22: =SUM(E5:E21) -> 287 | F22: =SUM(F5:F21) -> 669
A23: Stand:07.09.2026 | C23: Gesamtteilnehmer: | D23: =D22+E22+F22 -> 1169

Sheet Entwicklung
B1: Entwicklung der Teilnehmerzahlen am Laufabzeichenwettbewerb
B2: der Schulen in Schleswig-Holstein von 1994 bis 2025
B4: Jahr | C4: Stufe 1 [15 min] | D4: Stufe 2 [30 min] | E4: Stufe 3 [60 min] | F4: Gesamt | G4: Anzahl Schulen | H4: kumulierte Zahlen | I4: Lauftagorte
B5: 1994 | C5: 5442 | D5: 5721 | E5: 10562 | F5: =SUM(C5:E5) -> 21725 | G5: 120 | H5: =F5 -> 21725
B6: 1995 | C6: 5805 | D6: 6024 | E6: 10412 | F6: =SUM(C6:E6) -> 22241 | G6: 131 | H6: =H5+F6 -> 43966
B7: 1996 | C7: 6830 | D7: 7232 | E7: 16083 | F7: =SUM(C7:E7) -> 30145 | G7: 153 | H7: =H6+F7 -> 74111
B8: 1997 | C8: 5331 | D8: 5843 | E8: 13068 | F8: =SUM(C8:E8) -> 24242 | G8: 129 | H8: =H7+F8 -> 98353
B9: 1998 | C9: 5164 | D9: 5802 | E9: 12947 | F9: =SUM(C9:E9) -> 23913 | G9: 132 | H9: =H8+F9 -> 122266
B10: 1999 | C10: 6849 | D10: 6771 | E10: 16398 | F10: =SUM(C10:E10) -> 30018 | G10: 152 | H10: =H9+F10 -> 152284
B11: 2000 | C11: 5625 | D11: 7590 | E11: 17169 | F11: =SUM(C11:E11) -> 30384 | G11: 152 | H11: =H10+F11 -> 182668
B12: 2001 | C12: 7920 | D12: 8625 | E12: 21586 | F12: =SUM(C12:E12) -> 38131 | G12: 184 | H12: =H11+F12 -> 220799
B13: 2002 | C13: 18017 | D13: 19204 | E13: 42888 | F13: =SUM(C13:E13) -> 80109 | G13: 363 | H13: =H12+F13 -> 300908 | I13: Kiel
B14: 2003 | C14: 12436 | D14: 16061 | E14: 46058 | F14: =SUM(C14:E14) -> 74555 | G14: 388 | H14: =H13+F14 -> 375463 | I14: Kiel
B15: 2004 | C15: 12556 | D15: 15942 | E15: 55678 | F15: =SUM(C15:E15) -> 84176 | G15: 425 | H15: =H14+F15 -> 459639 | I15: Heikendorf
B16: 2005 | C16: 11727 | D16: 15458 | E16: 61750 | F16: =SUM(C16:E16) -> 88935 | G16: 447 | H16: =H15+F16 -> 548574 | I16: Preetz
B17: 2006 | C17: 11276 | D17: 14417 | E17: 59217 | F17: =SUM(C17:E17) -> 84910 | G17: 417 | H17: =H16+F17 -> 633484 | I17: Bad Malente
B18: 2007 | C18: 9291 | D18: 12522 | E18: 56811 | F18: =SUM(C18:E18) -> 78624 | G18: 420 | H18: =H17+F18 -> 712108 | I18: Itzehoe
B19: 2008 | C19: 7705 | D19: 10847 | E19: 53024 | F19: =SUM(C19:E19) -> 71576 | G19: 382 | H19: =H18+F19 -> 783684 | I19: Altenholz
B20: 2009 | C20: 8491 | D20: 11252 | E20: 57775 | F20: 77518 | G20: 389 | H20: =H19+F20 -> 861202 | I20: Lütjenburg
B21: 2010 | C21: 7602 | D21: 10473 | E21: 58746 | F21: 76821 | G21: 370 | H21: =H20+F21 -> 938023 | I21: Schleswig
B22: 2011 | C22: 6986 | D22: 10304 | E22: 58382 | F22: 75672 | G22: 359 | H22: =H21+F22 -> 1013695 | I22: Rendsburg
B23: 2012 | C23: 6750 | D23: 10120 | E23: 52154 | F23: 69024 | G23: 323 | H23: =H22+F23 -> 1082719 | I23: Ratzeburg
B24: 2013 | C24: 7793 | D24: 11125 | E24: 47784 | F24: 66702 | G24: 340 | H24: =H23+F24 -> 1149421 | I24: Elmshorn
B25: 2014 | C25: 7344 | D25: 10583 | E25: 44292 | F25: 62499 | G25: 337 | H25: =H24+F25 -> 1211920 | I25: Harrislee
B26: 2015 | C26: 6295 | D26: 9081 | E26: 44694 | F26: 60070 | G26: 288 | H26: =H25+F26 -> 1271990 | I26: Bad Oldesloe
B27: 2016 | C27: 7031 | D27: 10213 | E27: 44792 | F27: 62036 | G27: 300 | H27: =H26+F27 -> 1334026 | I27: Lübeck
B28: 2017/18 | C28: 5971 | D28: 9184 | E28: 41409 | F28: 57609 | G28: 288 | H28: =H27+F28 -> 1391635 | I28: Kiel
B29: 2018/19 | C29: 5343 | D29: 7927 | E29: 37348 | F29: 50618 | G29: 255 | H29: =H28+F29 -> 1442253 | I29: Husum ausgefallen Sturm
B30: 2019/20 | C30: 4025 | D30: 6542 | E30: 31450 | F30: 42017 | G30: 230 | H30: =H29+F30 -> 1484270 | I30: Husum
B31: 2020/21 | C31: 3044 | D31: 4874 | E31: 16035 | F31: 23953 | G31: 143 | H31: =H30+F31 -> 1508223 | I31: ausgefallen Corona
B32: 2021/22 | C32: 4646 | D32: 7408 | E32: 29277 | F32: =E32+D32+C32 -> 41331 | G32: 225 | H32: =H31+F32 -> 1549554 | I32: Neumünster
B33: 2022/23 | C33: 5498 | D33: 8475 | E33: 35624 | F33: =E33+D33+C33 -> 49597 | G33: 258 | H33: =H32+F33 -> 1599151 | I33: Bad Segeberg
B34: 2023/24 | C34: 6886 | D34: 9470 | E34: 39420 | F34: =E34+D34+C34 -> 55776 | G34: 274 | H34: =H32+F34 -> 1605330 | I34: Brunsbüttel
B35: 2024/25 | C35: 6207 | D35: 9061 | E35: 40958 | F35: =E35+D35+C35 -> 56226 | G35: 271 | H35: =H33+F35 -> 1655377 | I35: Flensburg
B36: 2025/26 | C36: 5511 | D36: 8591 | E36: 41196 | F36: =E36+D36+C36 -> 55298 | G36: 260 | H36: =H34+F36 -> 1660628 | I36: Eckernförde
B37: Durchschnitt aller Jahre | C37: =SUM(C5:C36)/32 -> 7418.6562 | D37: =SUM(D5:D36)/32 -> 9773.1875 | E37: =SUM(E5:E36)/32 -> 37968.344 | F37: =SUM(F5:F36)/32 -> 55201.594 | G37: =SUM(G5:G36)/32 -> 278.28125
